BEGIN:VCALENDAR
VERSION:2.0
PRODID:-//www.rual.ch//NONSGML kigkonsult.se ICALCREATOR_VERSION//
CALSCALE:GREGORIAN
METHOD:PUBLISH
X-WR-TIMEZONE','EUROPE/BERLIN:
BEGIN:VEVENT
UID:20260419T184224CEST-5063f3UTAI@www.rual.ch
DTSTAMP:20260419T164224Z
DESCRIPTION:Klicken Sie auf den folgenden Link\, um weitere Informationen z
 ur Veranstaltung zu erhalten:\nhttp://www.rual.ch/de/veranstaltungen/detai
 l/detail.php?i=390
DTSTART:20260603T200000
LOCATION:Gemeindesaal
SUMMARY:Gemeindeversammlung 
END:VEVENT
END:VCALENDAR
