BEGIN:VCALENDAR
VERSION:2.0
PRODID:-//www.rual.ch//NONSGML kigkonsult.se ICALCREATOR_VERSION//
CALSCALE:GREGORIAN
METHOD:PUBLISH
X-WR-TIMEZONE','EUROPE/BERLIN:
BEGIN:VEVENT
UID:20260419T184106CEST-50571onvTl@www.rual.ch
DTSTAMP:20260419T164106Z
DESCRIPTION:Klicken Sie auf den folgenden Link\, um weitere Informationen z
 ur Veranstaltung zu erhalten:\nhttp://www.rual.ch/de/veranstaltungen/detai
 l/detail.php?i=405
DTSTART:20260607T120000
LOCATION:Hornusserplatz Rüdtligen
SUMMARY:Meisterschaft Hornussen
END:VEVENT
END:VCALENDAR
