BEGIN:VCALENDAR
VERSION:2.0
PRODID:-//www.rual.ch//NONSGML kigkonsult.se ICALCREATOR_VERSION//
CALSCALE:GREGORIAN
METHOD:PUBLISH
X-WR-TIMEZONE','EUROPE/BERLIN:
BEGIN:VEVENT
UID:20260424T191245CEST-0606gFHWDD@www.rual.ch
DTSTAMP:20260424T171245Z
DESCRIPTION:Klicken Sie auf den folgenden Link\, um weitere Informationen z
 ur Veranstaltung zu erhalten:\nhttp://www.rual.ch/de/veranstaltungen/detai
 l/detail.php?i=421
DTSTART:20260520T140000
DTEND:20260520T160000
LOCATION:Pausenplatz
SUMMARY:Spiele-Nami
END:VEVENT
END:VCALENDAR
