BEGIN:VCALENDAR
VERSION:2.0
PRODID:-//www.rual.ch//NONSGML kigkonsult.se ICALCREATOR_VERSION//
CALSCALE:GREGORIAN
METHOD:PUBLISH
X-WR-TIMEZONE','EUROPE/BERLIN:
BEGIN:VEVENT
UID:20260424T193636CEST-8581jRVmV4@www.rual.ch
DTSTAMP:20260424T173636Z
DESCRIPTION:Klicken Sie auf den folgenden Link\, um weitere Informationen z
 ur Veranstaltung zu erhalten:\nhttp://www.rual.ch/de/veranstaltungen/detai
 l/detail.php?i=427
DTSTART:20260815T130000
DTEND:20260815T151500
LOCATION:Schiessanlage Aefligen
SUMMARY:Obligatorisches Programm Schiessen
END:VEVENT
END:VCALENDAR
