BEGIN:VCALENDAR
VERSION:2.0
PRODID:-//www.rual.ch//NONSGML kigkonsult.se ICALCREATOR_VERSION//
CALSCALE:GREGORIAN
METHOD:PUBLISH
X-WR-TIMEZONE','EUROPE/BERLIN:
BEGIN:VEVENT
UID:20260424T192747CEST-2870Eofi1U@www.rual.ch
DTSTAMP:20260424T172747Z
DESCRIPTION:Klicken Sie auf den folgenden Link\, um weitere Informationen z
 ur Veranstaltung zu erhalten:\nhttp://www.rual.ch/de/veranstaltungen/detai
 l/detail.php?i=429
DTSTART:20260607T000000
LOCATION:BMX-Bahn Alchenflüh
SUMMARY:BMX Race
END:VEVENT
END:VCALENDAR
