BEGIN:VCALENDAR
VERSION:2.0
PRODID:-//www.rual.ch//NONSGML kigkonsult.se ICALCREATOR_VERSION//
CALSCALE:GREGORIAN
METHOD:PUBLISH
X-WR-TIMEZONE','EUROPE/BERLIN:
BEGIN:VEVENT
UID:20260424T193211CEST-0064plVu7V@www.rual.ch
DTSTAMP:20260424T173211Z
DESCRIPTION:Klicken Sie auf den folgenden Link\, um weitere Informationen z
 ur Veranstaltung zu erhalten:\nhttp://www.rual.ch/de/veranstaltungen/detai
 l/detail.php?i=430
DTSTART:20260615T193000
LOCATION:Autobahnüberdeckung
SUMMARY:Musikständli MGKE
END:VEVENT
END:VCALENDAR
